BEGIN:VCALENDAR
VERSION:2.0
PRODID:-//Altafulla - ECPv6.15.20//NONSGML v1.0//EN
CALSCALE:GREGORIAN
METHOD:PUBLISH
X-ORIGINAL-URL:https://visitaltafulla.cat/en/
X-WR-CALDESC:Events for Altafulla
REFRESH-INTERVAL;VALUE=DURATION:PT1H
X-Robots-Tag:noindex
X-PUBLISHED-TTL:PT1H
BEGIN:VTIMEZONE
TZID:Europe/Madrid
BEGIN:DAYLIGHT
TZOFFSETFROM:+0100
TZOFFSETTO:+0200
TZNAME:CEST
DTSTART:20250330T010000
END:DAYLIGHT
BEGIN:STANDARD
TZOFFSETFROM:+0200
TZOFFSETTO:+0100
TZNAME:CET
DTSTART:20251026T010000
END:STANDARD
BEGIN:DAYLIGHT
TZOFFSETFROM:+0100
TZOFFSETTO:+0200
TZNAME:CEST
DTSTART:20260329T010000
END:DAYLIGHT
BEGIN:STANDARD
TZOFFSETFROM:+0200
TZOFFSETTO:+0100
TZNAME:CET
DTSTART:20261025T010000
END:STANDARD
BEGIN:DAYLIGHT
TZOFFSETFROM:+0100
TZOFFSETTO:+0200
TZNAME:CEST
DTSTART:20270328T010000
END:DAYLIGHT
BEGIN:STANDARD
TZOFFSETFROM:+0200
TZOFFSETTO:+0100
TZNAME:CET
DTSTART:20271031T010000
END:STANDARD
END:VTIMEZONE
BEGIN:VEVENT
DTSTART;TZID=Europe/Madrid:20260801T220000
DTEND;TZID=Europe/Madrid:20260831T233000
DTSTAMP:20260420T092019
CREATED:20250404T103822Z
LAST-MODIFIED:20260213T114425Z
UID:8549-1785621600-1788219000@visitaltafulla.cat
SUMMARY:Altafulla International Music Festival
DESCRIPTION:During the month of August\, Altafulla’s Plaza de la Iglesia transforms into an idyllic stage to host the prestigious Altafulla International Music Festival (FIM). This event has established itself as a must-attend occasion for lovers of classical and chamber music\, offering a program of high artistic quality in a historic and charming setting. \nEach edition of the festival brings together renowned performers\, both national and international\, who delight audiences with varied repertoires ranging from the great classical works to lesser-known\, yet equally captivating pieces. The quality of the performances\, combined with the natural acoustics of the venue\, creates a unique and unforgettable musical experience. \nThe Altafulla International Music Festival also supports the promotion of new talent\, providing opportunities for young performers and emerging ensembles. In addition\, the festival includes parallel activities such as workshops\, lectures\, and meet-and-greet sessions with the artists\, fostering interaction between musicians and the audience. \nThe historic surroundings of the Plaza de la Iglesia\, with its welcoming atmosphere and architectural beauty\, add to the festival’s charm\, making each concert a one-of-a-kind experience. Each summer\, Altafulla becomes a cultural hub that attracts visitors and music lovers from near and far. \nWith a combination of tradition\, talent\, and passion for music\, the Altafulla International Music Festival reaffirms itself year after year as an unmissable event for anyone looking to be moved by the finest music in a privileged setting.
URL:https://visitaltafulla.cat/en/gaudeix/altafulla-international-music-festival/
LOCATION:Plaça de l’Esglesia\, Plaça de l'Esglèsia\, Altafulla\, Tarragona\, 43893\, Espanya
ATTACH;FMTTYPE=image/jpeg:https://visitaltafulla.cat/wp-content/uploads/2025/04/ClaudiArimany_FIM2024-min.jpeg
END:VEVENT
BEGIN:VEVENT
DTSTART;TZID=Europe/Madrid:20260813T180000
DTEND;TZID=Europe/Madrid:20260816T000000
DTSTAMP:20260420T092019
CREATED:20250404T100317Z
LAST-MODIFIED:20260213T115141Z
UID:8553-1786644000-1786838400@visitaltafulla.cat
SUMMARY:Artisans Fair
DESCRIPTION:Every year\, around the Assumption of the Virgin Mary on August 15\, Altafulla becomes the stage for one of the most eagerly awaited fairs of the summer: the Artisans Fair. The Les Eres area transforms into a lively meeting point for lovers of both traditional and contemporary crafts. \nThis event brings together local artisans as well as creators from other parts of Spain\, offering a wide range of handmade products. Visitors can find everything from ceramics and jewelry to textiles and high-quality gourmet items. \nBut Altafulla’s Artisans Fair is more than just a market; it is also a space for cultural and recreational engagement. In addition to the craft stalls\, a variety of activities are organized for the whole family. Interactive workshops\, live performances\, and a children’s area ensure a rich and entertaining experience for both young and old. \nAll of this takes place in a historic and welcoming setting\, inviting visitors to stroll\, explore\, and enjoy the festive atmosphere that defines this event year after year. Altafulla’s Artisans Fair has become a must-visit event for those who appreciate authenticity\, creativity\, and the warmth of a living tradition. \nThis year\, the 28th edition of the Artisans Fair will take place from August 13 to 16.
URL:https://visitaltafulla.cat/en/gaudeix/artisans-fair/
LOCATION:Era del Senyor\, C/ de l'Ermita\, s/n\, Altafulla\, Tarragona\, 43893\, Espanya
ATTACH;FMTTYPE=image/jpeg:https://visitaltafulla.cat/wp-content/uploads/2025/04/Fira-Artesans-2024.jpg
END:VEVENT
END:VCALENDAR