BEGIN:VCALENDAR
VERSION:2.0
PRODID:-//Altafulla - ECPv6.15.20//NONSGML v1.0//EN
CALSCALE:GREGORIAN
METHOD:PUBLISH
X-ORIGINAL-URL:https://visitaltafulla.cat
X-WR-CALDESC:Esdeveniments per Altafulla
REFRESH-INTERVAL;VALUE=DURATION:PT1H
X-Robots-Tag:noindex
X-PUBLISHED-TTL:PT1H
BEGIN:VTIMEZONE
TZID:Europe/Madrid
BEGIN:DAYLIGHT
TZOFFSETFROM:+0100
TZOFFSETTO:+0200
TZNAME:CEST
DTSTART:20250330T010000
END:DAYLIGHT
BEGIN:STANDARD
TZOFFSETFROM:+0200
TZOFFSETTO:+0100
TZNAME:CET
DTSTART:20251026T010000
END:STANDARD
BEGIN:DAYLIGHT
TZOFFSETFROM:+0100
TZOFFSETTO:+0200
TZNAME:CEST
DTSTART:20260329T010000
END:DAYLIGHT
BEGIN:STANDARD
TZOFFSETFROM:+0200
TZOFFSETTO:+0100
TZNAME:CET
DTSTART:20261025T010000
END:STANDARD
BEGIN:DAYLIGHT
TZOFFSETFROM:+0100
TZOFFSETTO:+0200
TZNAME:CEST
DTSTART:20270328T010000
END:DAYLIGHT
BEGIN:STANDARD
TZOFFSETFROM:+0200
TZOFFSETTO:+0100
TZNAME:CET
DTSTART:20271031T010000
END:STANDARD
END:VTIMEZONE
BEGIN:VEVENT
DTSTART;TZID=Europe/Madrid:20260801T220000
DTEND;TZID=Europe/Madrid:20260831T233000
DTSTAMP:20260419T211342
CREATED:20250404T103822Z
LAST-MODIFIED:20260213T105445Z
UID:8373-1785621600-1788219000@visitaltafulla.cat
SUMMARY:Festival Internacional de Música d'Altafulla
DESCRIPTION:Durant el mes d’agost\, la Plaça de l’Església d’Altafulla es transforma en un escenari idíl·lic per acollir el prestigiós Festival Internacional de Música d’Altafulla (FIM). Aquest esdeveniment s’ha consolidat com una cita imprescindible per als amants de la música clàssica i de cambra\, oferint una programació d’alt nivell artístic en un marc històric i encisador. \nCada edició del festival reuneix intèrprets de renom\, tant nacionals com internacionals\, que delecten el públic amb repertoris variats que abracen des de les grans obres clàssiques fins a peces menys conegudes\, però igualment captivadores. La qualitat de les interpretacions\, sumada a l’acústica natural de l’espai\, crea una experiència musical única i inoblidable. \nEl Festival Internacional de Música d’Altafulla també aposta per la difusió i promoció de nous talents\, oferint espai a joves intèrprets i formacions emergents. A més\, el festival inclou activitats paral·leles com tallers\, conferències i trobades amb els artistes\, fomentant així la interacció entre músics i públic. \nL’entorn històric de la Plaça de l’Església\, amb el seu ambient acollidor i la seva bellesa arquitectònica\, contribueix a l’encant del festival\, convertint cada concert en una experiència irrepetible. Així\, Altafulla esdevé\, cada estiu\, un pol d’atracció cultural que atrau visitants i melòmans d’arreu. \nAmb una combinació de tradició\, talent i passió per la música\, el Festival Internacional de Música d’Altafulla es reafirma any rere any com un esdeveniment ineludible per a tots aquells que busquen emocionar-se amb la millor música en un entorn privilegiat.
URL:https://visitaltafulla.cat/gaudeix/festival-internacional-de-musica-daltafulla/
LOCATION:Plaça de l’Esglesia\, Plaça de l'Esglèsia\, Altafulla\, Tarragona\, 43893\, Espanya
CATEGORIES:Activitats,Cultura,Culturals,Esdeveniments,Música,Musicals
ATTACH;FMTTYPE=image/jpeg:https://visitaltafulla.cat/wp-content/uploads/2025/04/ClaudiArimany_FIM2024-min.jpeg
END:VEVENT
BEGIN:VEVENT
DTSTART;TZID=Europe/Madrid:20261211T180000
DTEND;TZID=Europe/Madrid:20261213T150000
DTSTAMP:20260419T211342
CREATED:20251024T100241Z
LAST-MODIFIED:20260121T082049Z
UID:8479-1797012000-1797174000@visitaltafulla.cat
SUMMARY:La Fira de Nadal: màgia i tradició al cor de la Vila Closa
DESCRIPTION:Cada desembre\, la bonica vila d’Altafulla es vesteix de llums\, colors i alegria amb la seva esperada Fira de Nadal\, un esdeveniment que ja s’ha convertit en una cita imprescindible per als habitants del Tarragonès i els visitants de la zona. La Vila Closa\, amb els seus carrers empedrats i l’encant històric de la plaça de l’Església\, es transforma en un escenari idíl·lic on es respira l’autèntic esperit nadalenc. \nEl mercat nadalenc ofereix una àmplia varietat de parades d’artesania i productes típics. Els visitants poden descobrir figures per al pessebre\, decoració nadalenca feta a mà\, regals originals i detalls únics per sorprendre els éssers estimats. La fira també sedueix els més golafres amb dolços tradicionals\, com torrons\, neules i altres delícies d’hivern\, acompanyats de l’aroma del vi calent i xocolata calenta que omple l’aire d’un ambient acollidor i familiar. \nMés enllà del mercat\, la Fira de Nadal d’Altafulla ofereix una programació d’activitats pensada per a totes les edats. Els més petits poden gaudir de tallers creatius i espectacles infantils\, mentre que els amants de la música poden delectar-se amb actuacions en directe de grups locals. Contacontes\, animació de carrer i altres sorpreses completaran l’experiència\, fent que cada visita sigui especial i única. \nL’encant del nucli històric d’Altafulla\, la qualitat de l’oferta artesanal i gastronòmica\, i la varietat d’activitats fan que la Fira de Nadal no només sigui un mercat\, sinó un punt de trobada per gaudir en família i amb amics\, preparar les festes i viure la màgia del Nadal de manera íntima i memorable. \nSi encara no heu descobert aquest esdeveniment\, la Fira de Nadal d’Altafulla és el lloc perfecte per submergir-vos en l’esperit de les festes i gaudir d’un ambient càlid i tradicional.
URL:https://visitaltafulla.cat/gaudeix/la-fira-de-nadal-magia-i-tradicio-al-cor-de-la-vila-closa/
LOCATION:Vila Closa\, Plaça del Pou 1\, Altafulla\, Tarragona\, 43893\, Espanya
CATEGORIES:Activitats,Cultura,Culturals,Esdeveniments,Festius,Gastronòmics,Gastronòmiques,Música
ATTACH;FMTTYPE=image/jpeg:https://visitaltafulla.cat/wp-content/uploads/2025/10/photo_5971976735043995469_y.jpg
END:VEVENT
END:VCALENDAR